BEGIN:VCALENDAR
VERSION:2.0
PRODID:-//Innovationszentrum Dörentrup - ECPv6.15.20//NONSGML v1.0//EN
CALSCALE:GREGORIAN
METHOD:PUBLISH
X-ORIGINAL-URL:https://innovationszentrum-doerentrup.de
X-WR-CALDESC:Veranstaltungen für Innovationszentrum Dörentrup
REFRESH-INTERVAL;VALUE=DURATION:PT1H
X-Robots-Tag:noindex
X-PUBLISHED-TTL:PT1H
BEGIN:VTIMEZONE
TZID:Europe/Berlin
BEGIN:DAYLIGHT
TZOFFSETFROM:+0100
TZOFFSETTO:+0200
TZNAME:CEST
DTSTART:20220327T010000
END:DAYLIGHT
BEGIN:STANDARD
TZOFFSETFROM:+0200
TZOFFSETTO:+0100
TZNAME:CET
DTSTART:20221030T010000
END:STANDARD
BEGIN:DAYLIGHT
TZOFFSETFROM:+0100
TZOFFSETTO:+0200
TZNAME:CEST
DTSTART:20230326T010000
END:DAYLIGHT
BEGIN:STANDARD
TZOFFSETFROM:+0200
TZOFFSETTO:+0100
TZNAME:CET
DTSTART:20231029T010000
END:STANDARD
BEGIN:DAYLIGHT
TZOFFSETFROM:+0100
TZOFFSETTO:+0200
TZNAME:CEST
DTSTART:20240331T010000
END:DAYLIGHT
BEGIN:STANDARD
TZOFFSETFROM:+0200
TZOFFSETTO:+0100
TZNAME:CET
DTSTART:20241027T010000
END:STANDARD
END:VTIMEZONE
BEGIN:VEVENT
DTSTART;TZID=Europe/Berlin:20231005T093000
DTEND;TZID=Europe/Berlin:20231005T110000
DTSTAMP:20260422T122832
CREATED:20230728T100508Z
LAST-MODIFIED:20230728T100508Z
UID:4837-1696498200-1696503600@innovationszentrum-doerentrup.de
SUMMARY:Smartphone-Club (Android) im Bürgerhaus Oerlinghausen
DESCRIPTION:Dieser Smartphone-Club ist ein offenes Angebot für Nutzer von Android-Smartphones\, die bereits unsere Kurse besucht haben oder selbst schon erste Erfahrungen mit ihrem Smartphone sammeln konnten. Nutzen Sie die Gelegenheit\, sich mit anderen auszutauschen\, lernen Sie neue Apps kennen und lassen Sie sich bei ihren individuellen Problemen helfen.\nBitte bringen Sie Ihr eigenes Smartphone (mit Ladegerät) zum Unterricht mit.\nMindestens 6 Teilnehmende. \nZur kostenlosen Teilnahme klicken Sie bitte hier: VHS Lippe-West \n\nAnmeldung bis 28.09.23 \n\nTermin: Donnerstag\, 05.10.2023\, 09:30 – 11:00 Uhr \n\nKursort: Bürgerhaus\, Tönsbergstr. 3\, 333813 Oerlinghausen \n\n  \nKurzvita Referent:\nMaximilian Sieveke\nDie Tätigkeit als Dozent an der VHS ist auch für mich immer interessant und horizonterweiternd. Das macht unheimlich viel Spaß zu sehen\, wie die Teilnehmenden lernen und weiterkommen. Die Aufgaben bewältige ich quasi im 2. Nebenberuf. Hauptberuflich bin ich im Sicherheitsdienst an der Universität Bielefeld angestellt und zudem seit einigen Jahren mit einem Wein- und Weinfassimport selbstständig. Getreu dem Motto: „Einfach machen!“ \n  \nWir bedanken uns und bei der Volkshochschule Lippe-West für die Bereitschaft zur Kooperation für die Veranstaltung. \n \n  \nDie Veranstaltung wird im Rahmen des Projekts „Digitale Bürgerplattform für Ehrenamt und Partizipation“ des Kreises Lippe durchgeführt. Das Projekt ist ein Sonderprojekt im Rahmen des Fördervorhabens Smarte.Land.Regionen und wird durch das Bundesministerium für Ernährung und Landwirtschaft aufgrund eines Beschlusses des Deutschen Bundestags gefördert und in Kooperation mit der Volkshochschule Lippe-West angeboten. \n 
URL:https://innovationszentrum-doerentrup.de/veranstaltung/smartphone-club-android-im-buergerhaus-oerlinghausen-2/
CATEGORIES:Schulung
ATTACH;FMTTYPE=image/jpeg:https://innovationszentrum-doerentrup.de/wp-content/uploads/2023/07/AdobeStock_320428200_b-scaled.jpg
END:VEVENT
BEGIN:VEVENT
DTSTART;TZID=Europe/Berlin:20231011T093000
DTEND;TZID=Europe/Berlin:20231011T110000
DTSTAMP:20260422T122832
CREATED:20230728T085824Z
LAST-MODIFIED:20230728T093400Z
UID:4828-1697016600-1697022000@innovationszentrum-doerentrup.de
SUMMARY:Smartphone-Club (Android) im Bürgerhaus Lage-Waddenhausen
DESCRIPTION:Dieser Smartphone-Club ist ein offenes Angebot für Nutzer von Android-Smartphones\, die bereits unsere Kurse besucht haben oder selbst schon erste Erfahrungen mit ihrem Smartphone sammeln konnten. Nutzen Sie die Gelegenheit\, sich mit anderen auszutauschen\, lernen Sie neue Apps kennen und lassen Sie sich bei ihren individuellen Problemen helfen.\nBitte bringen Sie Ihr eigenes Smartphone (mit Ladegerät) zum Unterricht mit.\nMindestens 6 Teilnehmende. \nZur kostenlosen Teilnahme klicken Sie bitte hier: VHS Lippe-West \n\nAnmeldung bis 05.10.23 \n\nTermin: Mittwoch\, 11.10.2023\, 09:30 – 11:00 Uhr \n\nKursort: Bürgertreff\, Altdorfer Str. 58\, 32791 Lage- Waddenhausen \n\n  \nKurzvita Referent:\nMaximilian Sieveke\nDie Tätigkeit als Dozent an der VHS ist auch für mich immer interessant und horizonterweiternd. Das macht unheimlich viel Spaß zu sehen\, wie die Teilnehmenden lernen und weiterkommen. Die Aufgaben bewältige ich quasi im 2. Nebenberuf. Hauptberuflich bin ich im Sicherheitsdienst an der Universität Bielefeld angestellt und zudem seit einigen Jahren mit einem Wein- und Weinfassimport selbstständig. Getreu dem Motto: „Einfach machen!“ \n  \nWir bedanken uns und bei der Volkshochschule Lippe-West für die Bereitschaft zur Kooperation für die Veranstaltung. \n \n  \nDie Veranstaltung wird im Rahmen des Projekts „Digitale Bürgerplattform für Ehrenamt und Partizipation“ des Kreises Lippe durchgeführt. Das Projekt ist ein Sonderprojekt im Rahmen des Fördervorhabens Smarte.Land.Regionen und wird durch das Bundesministerium für Ernährung und Landwirtschaft aufgrund eines Beschlusses des Deutschen Bundestags gefördert und in Kooperation mit der Volkshochschule Lippe-West angeboten. \n 
URL:https://innovationszentrum-doerentrup.de/veranstaltung/smartphone-club-android-im-buergerhaus-lage-waddenhausen/
CATEGORIES:Schulung
ATTACH;FMTTYPE=image/jpeg:https://innovationszentrum-doerentrup.de/wp-content/uploads/2022/03/iStock-1346887540-scaled.jpg
END:VEVENT
BEGIN:VEVENT
DTSTART;TZID=Europe/Berlin:20231011T193000
DTEND;TZID=Europe/Berlin:20231011T203000
DTSTAMP:20260422T122832
CREATED:20230728T071257Z
LAST-MODIFIED:20230728T074636Z
UID:4807-1697052600-1697056200@innovationszentrum-doerentrup.de
SUMMARY:Vortrag: Ein Hof und elf Geschwister. Der stille Abschied vom bäuerlichen Leben in Deutschland
DESCRIPTION:„Kühe und Schweine auf der Weide\, Pferde vor dem Pflug\, ein Garten für die Vorratshaltung. Das bäuerliche Leben der Fünfzigerjahre scheint dem Mittelalter näher als unserer Zeit.\nDoch dann ändert sich alles: Einst wohlhabende und angesehene Bauern gelten trotz aller Modernisierung plötzlich als ärmlich und rückständig\, ihre Kinder riechen nach Stall und schämen sich.\nWege aus der bäuerlichen Welt weist die katholische Kirche mit neuer Jugendarbeit. Der Sozialstaat hilft bei Ausbildung und Hofübergabe. Schon in den Siebzigerjahren ist die Welt auf dem Land eine völlig andere.\nEwald Frie erzählt in dem Vortrag am Beispiel seiner Familie von der großen Zäsur und zeigt\, wie die Welt der Eltern unterging\, die Geschwister anderen Lebensentwürfen folgten und der allgemeine gesellschaftliche Wandel das Land erfasste2. \nEine Anmeldung zum kostenlosen Vortrag ist über die VHS Wissen-Live möglich: Ein Hof und elf Geschwister. Der stille Abschied vom bäuerlichen Leben in Deutschland – vhs wissen live – das digitale Wissenschaftsprogramm (vhs-wissen-live.de) \nZum Referenten:\n„Ewald Frie wurde 1962 als neuntes von elf Kindern einer katholischen Bauernfamilie im Münsterland geboren. Er ist Professor für Neuere Geschichte an der Universität Tübingen und ordentliches Mitglied der Heidelberger Akademie der Wissenschaften. Für sein Buch „Ein Hof und elf Geschwister“ (C.H. Beck) erhielt er 2023 den Sachbuchpreis des Börsenvereins des Deutschen Buchhandels\, der auch Kooperationspartner dieser Veranstaltung ist“. \n  \nQuelle: VHS Wissen live.de \n  \nDie Veranstaltung wird im Rahmen des Projekts „Digitale Bürgerplattform für Ehrenamt und Partizipation“ des Kreises Lippe finanziell unterstützt. Das Projekt ist ein Sonderprojekt im Rahmen des Fördervorhabens Smarte.Land.Regionen und wird durch das Bundesministerium für Ernährung und Landwirtschaft aufgrund eines Beschlusses des Deutschen Bundestags gefördert.
URL:https://innovationszentrum-doerentrup.de/veranstaltung/ein-hof-und-elf-geschwister-der-stille-abschied-vom-baeuerlichen-leben-in-deutschland/
LOCATION:Online
ATTACH;FMTTYPE=image/png:https://innovationszentrum-doerentrup.de/wp-content/uploads/2022/03/Daecher-e1646224594177.png
END:VEVENT
BEGIN:VEVENT
DTSTART;TZID=Europe/Berlin:20231012T103000
DTEND;TZID=Europe/Berlin:20231012T133000
DTSTAMP:20260422T122832
CREATED:20221123T075046Z
LAST-MODIFIED:20230821T085911Z
UID:3991-1697106600-1697117400@innovationszentrum-doerentrup.de
SUMMARY:MINT Community 4.OWL - SpurtMobil – Fahren wie von Geisterhand
DESCRIPTION:SpurtMobil – Fahren wie von Geisterhand \nSelbststeuernde Transportsysteme fahren schon heute durch die Flure von Krankenhäusern und bringen Essen und Geräte dorthin\, wo sie gebraucht werden. \nDu baust einen kleinen Fahrroboter nach einer selbst erarbeiteten Bauanleitung\, teste sein Fahrverhalten\, forsche an Verbesserungen und untersuche die Funktionsweise des Sensors. \nDu bist im Alter von 10 bis 16 Jahren? Dann laden wir Dich herzlich dazu ein! \n  \nTERMIN:              12.10.2023 um 10.30 bis 13.30 Uhr \nORT:                      Innovationszentrum Dörentrup\, Energiepark 2\, 32694 Dörentrup \n  \n  \nEine Anmeldung zum Workshop ist notwendig: \nBitte sendet hierfür den Workshop-Titel mit Termin\, Euren Namen\, Wohnort und Alter per E-Mail an die Lippe Bildung eG Nina Nadine Siekmeier: siekmeier@lippe-bildung.de \nDas Angebot ist für Jugendliche kostenfrei\, da es im Rahmen des geförderten Projektes MINT Community 4.OWL stattfindet. \n  \nKONTAKT: \nNina Nadine Siekmeier | MINT Community 4.OWL \nFon: 05261 – 7080 822 |Mobil: 0151 – 14436733 | Mail: siekmeier@lippe-bildung.de \nc/o Lippe Bildung eG | Campusallee 19 | 32657 Lemgo \n  \n  \n  \n 
URL:https://innovationszentrum-doerentrup.de/veranstaltung/mint-community-4-owl-6/
LOCATION:Innovationszentrum Dörentrup\, Ecke Vossheider Str. / Donoper Str.\, Dörentrup\, 32694\, Deutschland
ATTACH;FMTTYPE=application/pdf:https://innovationszentrum-doerentrup.de/wp-content/uploads/2022/11/MINT_Plakat__SpurtMobil_IZD_12.10.23-1.pdf
ORGANIZER;CN="zdi-Zentrum Lippe.MINT":MAILTO:siekmeier@lippe-bildung.de
END:VEVENT
BEGIN:VEVENT
DTSTART;TZID=Europe/Berlin:20231015T100000
DTEND;TZID=Europe/Berlin:20231015T123000
DTSTAMP:20260422T122832
CREATED:20230414T075949Z
LAST-MODIFIED:20230414T075952Z
UID:4443-1697364000-1697373000@innovationszentrum-doerentrup.de
SUMMARY:NaTourErlebnis Pilzsuche. Unter fachkundiger Begleitung im Wald auf Blomenstein
DESCRIPTION:Im Herbst beginnt die alljährliche Pilzsaison. Statt im Supermarkt Pilze zu kaufen\, lohnt sich eine Wanderung im Wald. Fahren Sie mit Elektro-Autos vom Innovationszentrum in den Wald auf Blomenstein und lassen Sie sich dort von Günther Dreier\, dem Pilzberater des Kreises Lippe\, in die Welt der Pilze entführen. Erfahren Sie\, welche Pilzarten zu welcher Zeit\, wo zu suchen sind und welche Speisepilze giftige Doppelgänger haben. Bei dieser NaTourErlebnisführung lernen Sie die wichtigsten heimischen Pilze beim Sammeln im Wald kennen. Nach erfolgreicher Pilzsuche werden die Pilze gemeinsam vor Ort im Wald bestimmt und zur Zubereitung mit nach Hause genommen. \nBitte an wetterfeste Kleidung und festes Schuhwerk denken. Korb\, Pilzmesser oder einfaches Messer\, evtl. auch Bürste mitbringen! \nKinder bis einschließlich 16 Jahre kostenlos. \nBuchung bis 7 Tage vor dem Termin möglich. \nBuchungsanfragen zu Wunschterminen von Gruppen ab 6 Personen unter j.wisomiersky@kreis-lippe.de möglich. \n\n\nErlebnisführung:\nDorf der Tiere – Einheit von Dorf\, Mensch und Tier\n\n\nTreffpunkt:\nInnovationszentrum in Dörentrup (IZD)\n\n\nTermin:\n15.10.2023 (10:00 – 12:30)\n\n\nZielgruppe:\nErwachsene und Kinder\n\n\nPreis:\n€ 8\,00\n\n\nFreie Plätze:\n11\n\n\nGebuchte Plätze:\n4\n\n\nErlebnisführer:\n\nGünther Dreier\n\n\n\nZeitdauer in h:\n2\,5
URL:https://innovationszentrum-doerentrup.de/veranstaltung/natourerlebnis-pilzsuche-unter-fachkundiger-begleitung-im-wald-auf-blomenstein/
LOCATION:Innovationszentrum Dörentrup\, Ecke Vossheider Str. / Donoper Str.\, Dörentrup\, 32694\, Deutschland
ORGANIZER;CN="Lippe Tourismus & Marketing GmbH":MAILTO:j.wisomiersky@kreis-lippe.de
END:VEVENT
BEGIN:VEVENT
DTSTART;TZID=Europe/Berlin:20231016T093000
DTEND;TZID=Europe/Berlin:20231016T110000
DTSTAMP:20260422T122832
CREATED:20230728T103713Z
LAST-MODIFIED:20230728T103713Z
UID:4857-1697448600-1697454000@innovationszentrum-doerentrup.de
SUMMARY:Smartphone-Club (Android) im B-vier Leopoldshöhe
DESCRIPTION:Dieser Smartphone-Club ist ein offenes Angebot für Nutzer von Android-Smartphones\, die bereits unsere Kurse besucht haben oder selbst schon erste Erfahrungen mit ihrem Smartphone sammeln konnten. Nutzen Sie die Gelegenheit\, sich mit anderen auszutauschen\, lernen Sie neue Apps kennen und lassen Sie sich bei ihren individuellen Problemen helfen.\nBitte bringen Sie Ihr eigenes Smartphone (mit Ladegerät) zum Unterricht mit.\nMindestens 6 Teilnehmende. \nZur kostenlosen Teilnahme klicken Sie bitte hier: VHS Lippe-West \n\nAnmeldung bis 10.10.23 \n\nTermin: Montag\, 16.10.2023\, 09:30 – 11:00 Uhr \n\nKursort: B-vier\, Parkstr. 6\, 33818 Leopoldshöhe \n\n  \nKurzvita Referent:\nMaximilian Sieveke\nDie Tätigkeit als Dozent an der VHS ist auch für mich immer interessant und horizonterweiternd. Das macht unheimlich viel Spaß zu sehen\, wie die Teilnehmenden lernen und weiterkommen. Die Aufgaben bewältige ich quasi im 2. Nebenberuf. Hauptberuflich bin ich im Sicherheitsdienst an der Universität Bielefeld angestellt und zudem seit einigen Jahren mit einem Wein- und Weinfassimport selbstständig. Getreu dem Motto: „Einfach machen!“ \n  \nWir bedanken uns und bei der Volkshochschule Lippe-West für die Bereitschaft zur Kooperation für die Veranstaltung. \n \n  \nDie Veranstaltung wird im Rahmen des Projekts „Digitale Bürgerplattform für Ehrenamt und Partizipation“ des Kreises Lippe durchgeführt. Das Projekt ist ein Sonderprojekt im Rahmen des Fördervorhabens Smarte.Land.Regionen und wird durch das Bundesministerium für Ernährung und Landwirtschaft aufgrund eines Beschlusses des Deutschen Bundestags gefördert und in Kooperation mit der Volkshochschule Lippe-West angeboten. \n 
URL:https://innovationszentrum-doerentrup.de/veranstaltung/smartphone-club-android-im-b-vier-leopoldshoehe-2/
CATEGORIES:Schulung
ATTACH;FMTTYPE=image/jpeg:https://innovationszentrum-doerentrup.de/wp-content/uploads/2023/07/iStock-864477786-scaled.jpg
END:VEVENT
BEGIN:VEVENT
DTSTART;TZID=Europe/Berlin:20231017T180000
DTEND;TZID=Europe/Berlin:20231017T210000
DTSTAMP:20260422T122832
CREATED:20230728T073506Z
LAST-MODIFIED:20230728T093459Z
UID:4809-1697565600-1697576400@innovationszentrum-doerentrup.de
SUMMARY:Vortrag mit Praxisbeispielen: Öffentlichkeitsarbeit und Social Media für Vereine
DESCRIPTION:Öffentlichkeitsarbeit ist für Vereine essentiell\, um sichtbar zu sein und Mitglieder zu werben. Neben der klassischen Pressemitteilung haben die neuen Medien stark an Bedeutung gewonnen. In diesem Modul betrachten wir die medialen Möglichkeiten: Welche Kanäle eignen sich für welchen Zweck und welche Zielgruppe? Wie kommen unsere Inhalte jeweils am besten zur Geltung? Es gibt Tipps für Pressetexte und Fotos und einige Social-Media-Kanäle und die verschiedenen Formate werden vorgestellt. Dazu werden die rechtlichen Rahmenbedingungen erläutert. \nDie kostenlose Veranstaltung findet am Dienstag\, 17. Oktober\, von 18:00 – 21:00 in Schieder-Schwalenberg statt. \nZur Anmeldung klicken Sie bitte direkt auf den Link: Öffentlichkeitsarbeit & Social Media (vhslippe-ost.de) \nVeranstaltungsort: Rat- und Bürgerhaus\, Ratssaal\, Domäne 3\, 32816 Schieder-Schwalenberg \n\n\nZur Referentin:\nDr. Marlen Grote – Content-Managerin\, Stadt Lemgo \n\n\n  \nWir bedanken uns und bei der Volkshochschule Lippe-Ost für die Bereitschaft zur Kooperation für die Veranstaltung. \n \nDie Veranstaltung wird im Rahmen des Projekts „Digitale Bürgerplattform für Ehrenamt und Partizipation“ des Kreises Lippe durchgeführt. Das Projekt ist ein Sonderprojekt im Rahmen des Fördervorhabens Smarte.Land.Regionen und wird durch das Bundesministerium für Ernährung und Landwirtschaft aufgrund eines Beschlusses des Deutschen Bundestags gefördert und in Kooperation mit der Volkshochschule Lippe-Ost angeboten. \n 
URL:https://innovationszentrum-doerentrup.de/veranstaltung/vortrag-mit-praxisbeispielen-oeffentlichkeitsarbeit-und-social-media-fuer-vereine/
LOCATION:Rat- und Bürgerhaus\, Ratssaal\, Domäne 3\, Schieder-Schwalenberg\, 32816
CATEGORIES:Schulung
ATTACH;FMTTYPE=image/jpeg:https://innovationszentrum-doerentrup.de/wp-content/uploads/2022/03/happy-woman-with-a-phone-scaled.jpg
END:VEVENT
BEGIN:VEVENT
DTSTART;TZID=Europe/Berlin:20231023T180000
DTEND;TZID=Europe/Berlin:20231023T190000
DTSTAMP:20260422T122832
CREATED:20230728T082047Z
LAST-MODIFIED:20230728T093326Z
UID:4823-1698084000-1698087600@innovationszentrum-doerentrup.de
SUMMARY:Social Media & Selbstbestimmung: Schutz von Persönlichkeitsrechten\, Sicherheitseinstellungen von Apps & Co.
DESCRIPTION:Ständig stöbern wir im Internet\, um Informationen zu finden oder etwas zu kaufen. Unendlich viele kostenlose Apps stehen uns in App-Stores zur Verfügung. Ob Wetter-\, Spiele-\, Zyklus-\, Beauty\, Einkaufs- oder Fitness-Apps – für jeden ist was Passendes dabei. Es soll das Leben vereinfachen oder Spaß bringen. Wir müssen uns die Fragen stellen: Ist kostenlos gleich umsonst? Und – behalten wir noch den Überblick oder müssten wir längst einmal ausmisten? \nDas Smartphone ist unser ständiger Begleiter und bestimmt unseren Alltag\, hinterlässt unsere Spuren im Netz. Das kann Vorteile haben\, aber eben auch viel Nachteile. Denn je gläserner wir als Anwender/-innen werden\, desto anfälliger sind wir für Beeinflussung wie durch Werbung und Manipulation. \nWichtig ist\, das Wissen zu möglichen Konsequenzen unserer eigenen Handlung bzw. Nicht-Handlung vor Augen zu haben und Wissen dazu aufzubauen\, wie Social Media in der Anwendung oder die Nutzung von Apps selbstbestimmt(er) erfolgen kann. Durch Wissen und Vorsorge reduziert sich die Gefahr\, dass andere Menschen und Unternehmen mehr über uns wissen\, als uns lieb ist. Unsere Daten möglicherweise zu Werbezwecke und zu sensiblen Themen wie „Haarausfall“\, „Abnehmen“ oder „Kinderwunsch“ benutzen. \nAn diesem Tag wird darauf eingegangen wie \n# wir unsere Persönlichkeitsrechte selbstbestimmt schützen (und warum das wichtig ist)\n# Spuren im Netz aussehen und wie wir sie so gering wie möglich halten können\n# wir Sicherheitseinstellungen im Internet\, auf Social Media oder bei Apps vornehmen können/sollten\n# Welche Tools gibt es\, um das Beste aus der Plattform rauszuholen\n# welche Prüfmöglichkeiten\, Meldestellen und Hilfen es gibt \nZur kostenlosen Teilnahme klicken Sie bitte hier: VHS Lippe-West \n\nAnmeldung bis 16.10.23 \n\nTermin: Montag\, 23.10.2023\, 18:00 – 19:00 Uhr \n\nZu den angegebenen Terminen findet der Kurs live als Zoom-Meeting statt. Der Link mit den Zugangsdaten wird Ihnen rechtzeitig von der Volkshochschule Lippe-West per Mail zugesendet. \n  \n\nKurzvita Referentin: \nSandra Wilms\n„Marketingkonzeption\, Online-Marketing Strategien\, digitale Kommunikation – das sind berufliche Schwerpunkte von Sandra Wilms. Die studierte Marketing- und qualifizierte Nachhaltigkeitsmanagerin hat langjährige Erfahrung und fundiertes Wissen. Sie befasst sich mit Trends\, Konsumentenveränderungen\, dem Handlungsprinzip Nachhaltigkeit und Unternehmensverantwortung in der digitalen Gesellschaft.“ \n  \nWir bedanken uns und bei der Volkshochschule Lippe-West für die Bereitschaft zur Kooperation für die Veranstaltung. \n \n  \nDie Veranstaltung wird im Rahmen des Projekts „Digitale Bürgerplattform für Ehrenamt und Partizipation“ des Kreises Lippe durchgeführt. Das Projekt ist ein Sonderprojekt im Rahmen des Fördervorhabens Smarte.Land.Regionen und wird durch das Bundesministerium für Ernährung und Landwirtschaft aufgrund eines Beschlusses des Deutschen Bundestags gefördert und in Kooperation mit der Volkshochschule Lippe-West angeboten. \n 
URL:https://innovationszentrum-doerentrup.de/veranstaltung/social-media-selbstbestimmung-schutz-von-persoenlichkeitsrechten-sicherheitseinstellungen-von-apps-co-2/
LOCATION:Online
CATEGORIES:Schulung
ATTACH;FMTTYPE=image/jpeg:https://innovationszentrum-doerentrup.de/wp-content/uploads/2022/03/AdobeStock_295194383_Zuschnitt-scaled.jpg
END:VEVENT
BEGIN:VEVENT
DTSTART;TZID=Europe/Berlin:20231023T190000
DTEND;TZID=Europe/Berlin:20231023T211500
DTSTAMP:20260422T122832
CREATED:20230627T113240Z
LAST-MODIFIED:20230627T113412Z
UID:4717-1698087600-1698095700@innovationszentrum-doerentrup.de
SUMMARY:Cybermobbing - Tatort Internet!
DESCRIPTION:Beim bekannten Begriff „Mobbing“ wird der Aspekt körperlicher Attacken häufig überbetont\, dabei können auch im Internet veröffentlichte Texte\, Kommentare\, Fotos oder Videos schwere Wunden schlagen. „Cybermobbing“ erscheint daher auf den ersten Blick oft weniger gewalttätig. „Cybermobbing“ geschieht über den Bildschirm von Notebook\, Tablet\, Smartphone\, etc. Unter anderem werden soziale Netzwerke\, Messenger oder Spieleforen dafür genutzt. Damit hört diese digitale Form des Mobbings nicht mehr an der Haustür\, Schultür oder dem Arbeitsplatz auf\, sondern findet nun\, oft für viele sichtbar\, jederzeit statt. \nDiese Fragen stellen sich:\n– Welche Cyber/Mobbingformen gibt es?\n– Welche Folgen kann Cybermobbing für Opfer\, Täter\, Angehörige oder den\nSchulalltag haben?\n– Wie kann sich vorbeugend geschützt und frühzeitig gewehrt werden?\n– Was sollten Eltern wissen und ihren Kindern frühzeitig vermitteln?\n– Was sagt das Gesetz?\n– Wer hilft?\n– Was können Betroffene und Nichtbetroffene tun? \nZu den ReferentInnen:\nSabine Schattenfroh\nDie Medienpädagogin und Erziehungsberaterin gibt Erziehenden wichtige Informationen\, alltagstauglichen Rat und beantwortet individuelle Fragen. Im Klett Schulbuchverlag wurden von ihr unter der Rubrik „Webcoach“ medienpädagogische Unterrichtsmaterialien zur sicheren Internetnutzung (u.a. zum Thema Cybermobbing) entwickelt. \nArnd Begemann\nRegierungsbeschäftigter der Kreispolizeibehörde Detmold.\nKriminalkommissariat für Kriminalprävention/Opferschutz Detmold – Kriminalprävention Cybercrime \nBitte melden Sie sich hier zur kostenlosen Veranstaltung an. \nDie Veranstaltung wird in Kooperation mit der VHS-Detmold-Lemgo und im Rahmen des Projekts „Digitale Bürgerplattform für Ehrenamt und Partizipation“ des Kreises Lippe durchgeführt. Das Projekt ist ein Sonderprojekt im Rahmen des Fördervorhabens Smarte.Land.Regionen und wird durch das Bundesministerium für Ernährung und Landwirtschaft aufgrund eines Beschlusses des Deutschen Bundestags gefördert.
URL:https://innovationszentrum-doerentrup.de/veranstaltung/cybermobbing-tatort-internet/
LOCATION:Lemgo\, Haus Wippermann\, Kramerstraße 5\, Lemgo\, 32657\, Deutschland
ORGANIZER;CN="VHS Detmold-Lemgo":MAILTO:info@vhs-detmold-lemgo.de
END:VEVENT
BEGIN:VEVENT
DTSTART;TZID=Europe/Berlin:20231024T180000
DTEND;TZID=Europe/Berlin:20231024T210000
DTSTAMP:20260422T122832
CREATED:20230803T071147Z
LAST-MODIFIED:20230803T071147Z
UID:4900-1698170400-1698181200@innovationszentrum-doerentrup.de
SUMMARY:Praxisworkshop Social Media - Instagram für Vereine
DESCRIPTION:In diesem Kurs lernen Sie\, wie Sie ansprechende Inhalte erstellen\, eine organische Follower-Basis aufbauen und mit Ihrer Community interagieren. Entdecken Sie die vielfältigen Funktionen von Instagram\, wie Stories\, Highlights und Live-Streaming\, um Ihre Vereinsaktivitäten optimal zu präsentieren. \nErfahren Sie\, wie Sie Instagram-Insights nutzen\, um den Erfolg Ihrer Aktivitäten zu messen und Ihre Strategie anzupassen. Der Kurs besteht aus interaktiven Workshops\, Diskussionen und praktischen Übungen\, die Ihnen helfen\, Ihr Instagram-Konto während des Kurses zu optimieren. \nBitte mitbringen: Notebook\, Laptop\, Tablet oder Handy. \n  \nDie kostenlose Veranstaltung findet am Dienstag\, 24. Oktober\, von 18:00 – 21:00 in Schieder-Schwalenberg statt. \nZur Anmeldung klicken Sie bitte direkt auf den Link: Öffentlichkeitsarbeit & Social Media (vhslippe-ost.de) \nVeranstaltungsort: Schlossparkschule\, Besprechungsraum\, Parkallee 7\, 32816 Schieder-Schwalenberg \n\n\nZur Referentin: Yuliana Preuß \n  \n\n\n  \nWir bedanken uns und bei der Volkshochschule Lippe-Ost für die Bereitschaft zur Kooperation für die Veranstaltung. \n \nDie Veranstaltung wird im Rahmen des Projekts „Digitale Bürgerplattform für Ehrenamt und Partizipation“ des Kreises Lippe durchgeführt. Das Projekt ist ein Sonderprojekt im Rahmen des Fördervorhabens Smarte.Land.Regionen und wird durch das Bundesministerium für Ernährung und Landwirtschaft aufgrund eines Beschlusses des Deutschen Bundestags gefördert und in Kooperation mit der Volkshochschule Lippe-Ost angeboten. \n 
URL:https://innovationszentrum-doerentrup.de/veranstaltung/praxisworkshop-social-media-instagram-fuer-vereine/
CATEGORIES:Schulung
ATTACH;FMTTYPE=image/jpeg:https://innovationszentrum-doerentrup.de/wp-content/uploads/2023/08/iStock-1320660402-scaled.jpg
END:VEVENT
END:VCALENDAR