BEGIN:VCALENDAR
VERSION:2.0
PRODID:-//Innovationszentrum Dörentrup - ECPv6.15.20//NONSGML v1.0//EN
CALSCALE:GREGORIAN
METHOD:PUBLISH
X-WR-CALNAME:Innovationszentrum Dörentrup
X-ORIGINAL-URL:https://innovationszentrum-doerentrup.de
X-WR-CALDESC:Veranstaltungen für Innovationszentrum Dörentrup
REFRESH-INTERVAL;VALUE=DURATION:PT1H
X-Robots-Tag:noindex
X-PUBLISHED-TTL:PT1H
BEGIN:VTIMEZONE
TZID:Europe/Berlin
BEGIN:DAYLIGHT
TZOFFSETFROM:+0100
TZOFFSETTO:+0200
TZNAME:CEST
DTSTART:20220327T010000
END:DAYLIGHT
BEGIN:STANDARD
TZOFFSETFROM:+0200
TZOFFSETTO:+0100
TZNAME:CET
DTSTART:20221030T010000
END:STANDARD
BEGIN:DAYLIGHT
TZOFFSETFROM:+0100
TZOFFSETTO:+0200
TZNAME:CEST
DTSTART:20230326T010000
END:DAYLIGHT
BEGIN:STANDARD
TZOFFSETFROM:+0200
TZOFFSETTO:+0100
TZNAME:CET
DTSTART:20231029T010000
END:STANDARD
BEGIN:DAYLIGHT
TZOFFSETFROM:+0100
TZOFFSETTO:+0200
TZNAME:CEST
DTSTART:20240331T010000
END:DAYLIGHT
BEGIN:STANDARD
TZOFFSETFROM:+0200
TZOFFSETTO:+0100
TZNAME:CET
DTSTART:20241027T010000
END:STANDARD
END:VTIMEZONE
BEGIN:VEVENT
DTSTART;TZID=Europe/Berlin:20231130T180000
DTEND;TZID=Europe/Berlin:20231130T210000
DTSTAMP:20260422T192709
CREATED:20230810T094116Z
LAST-MODIFIED:20230810T095154Z
UID:4957-1701367200-1701378000@innovationszentrum-doerentrup.de
SUMMARY:After-Work-Impuls: Social Media-Beiträge mit dem Online-Tool Canva für ehrenamtlich Engagierte
DESCRIPTION:Dieser Kurs richtet sich neben Social Media Interessierten insbesondere an ehrenamtlich Engagierte\, die neben ihren normalen Tätigkeiten auch die Social Media Kanäle betreuen und nur wenig Zeit haben\, sich um das Design ihrer Kanäle zu kümmern. \nMit Hilfe der einfach zu bedienenden Anwendung Canva lernen Sie schnelle und gute Social Media Postings zu entwerfen. Auf diese Weise können Sie Ihre Beiträge visuell aufwerten und in Ihrem Social Media Kanal für mehr Aufmerksamkeit sorgen. Als Mediengestalterin gibt die Dozentin Ihnen außerdem wertvolle Hinweise und Tipps zur ansprechenden Gestaltung Ihrer Posts. \nBitte erstellen Sie sich möglichst vorab bei Canva ein Konto und bringen die Zugangsdaten mit – ggf. kann es sinnvoll sein\, wenn Sie auch Zugriff auf Ihre Mailadresse haben. Canva bietet eine kostenlose Version. Eine Anmeldung erfolgt über die Angabe einer E-Mail-Adresse\, den eigenen Facebook- oder Google-Account. \n\n\n\nVoraussetzungen\nComputer-Kenntnisse sowie Grundwissen in der Anwendung von Social Media Kanälen\n\n\n\n  \nDie kostenlose Veranstaltung findet am Donnerstag\, 30. November\, von 18:00 – 21:00 in Horn-Bad Meinberg statt. \nZur Anmeldung klicken Sie bitte direkt auf den Link: Social Media-Beiträge mit dem Online-Tool Canva \nVeranstaltungsort: Informatikraum\, Südholzweg 29\, 32805 Horn-Bad Meinberg \n\n\nReferentin: Vanessa Alexandra Schmidt\n  \n\n\nWir bedanken uns und bei der Volkshochschule Detmold-Lemgo für die Bereitschaft zur Kooperation für die Veranstaltung. \n \nDie Veranstaltung wird im Rahmen des Projekts „Digitale Bürgerplattform für Ehrenamt und Partizipation“ des Kreises Lippe durchgeführt. Das Projekt ist ein Sonderprojekt im Rahmen des Fördervorhabens Smarte.Land.Regionen und wird durch das Bundesministerium für Ernährung und Landwirtschaft aufgrund eines Beschlusses des Deutschen Bundestags gefördert und in Kooperation mit der Volkshochschule Detmold-Lemgo angeboten. \n 
URL:https://innovationszentrum-doerentrup.de/veranstaltung/after-work-impuls-social-media-beitraege-mit-dem-online-tool-canva-fuer-fuer-ehrenamtlich-engagierte/
CATEGORIES:Schulung
ATTACH;FMTTYPE=image/jpeg:https://innovationszentrum-doerentrup.de/wp-content/uploads/2023/08/AdobeStock_177612611_b-scaled.jpg
ORGANIZER;CN="VHS Detmold-Lemgo":MAILTO:info@vhs-detmold-lemgo.de
END:VEVENT
END:VCALENDAR